BEGIN:VCALENDAR
VERSION:2.0
PRODID:-//Lebendige Kommunikation - Georgis Heintz - ECPv6.15.20//NONSGML v1.0//EN
CALSCALE:GREGORIAN
METHOD:PUBLISH
X-WR-CALNAME:Lebendige Kommunikation - Georgis Heintz
X-ORIGINAL-URL:https://lebendigekommunikation.de
X-WR-CALDESC:Veranstaltungen für Lebendige Kommunikation - Georgis Heintz
REFRESH-INTERVAL;VALUE=DURATION:PT1H
X-Robots-Tag:noindex
X-PUBLISHED-TTL:PT1H
BEGIN:VTIMEZONE
TZID:Europe/Berlin
BEGIN:DAYLIGHT
TZOFFSETFROM:+0100
TZOFFSETTO:+0200
TZNAME:CEST
DTSTART:20250330T010000
END:DAYLIGHT
BEGIN:STANDARD
TZOFFSETFROM:+0200
TZOFFSETTO:+0100
TZNAME:CET
DTSTART:20251026T010000
END:STANDARD
BEGIN:DAYLIGHT
TZOFFSETFROM:+0100
TZOFFSETTO:+0200
TZNAME:CEST
DTSTART:20260329T010000
END:DAYLIGHT
BEGIN:STANDARD
TZOFFSETFROM:+0200
TZOFFSETTO:+0100
TZNAME:CET
DTSTART:20261025T010000
END:STANDARD
BEGIN:DAYLIGHT
TZOFFSETFROM:+0100
TZOFFSETTO:+0200
TZNAME:CEST
DTSTART:20270328T010000
END:DAYLIGHT
BEGIN:STANDARD
TZOFFSETFROM:+0200
TZOFFSETTO:+0100
TZNAME:CET
DTSTART:20271031T010000
END:STANDARD
END:VTIMEZONE
BEGIN:VEVENT
DTSTART;TZID=Europe/Berlin:20260420T083000
DTEND;TZID=Europe/Berlin:20260424T140000
DTSTAMP:20260420T154927
CREATED:20250926T161838Z
LAST-MODIFIED:20250926T161838Z
UID:2187-1776673800-1777039200@lebendigekommunikation.de
SUMMARY:Intensivwoche Gewaltfreie Kommunikation
DESCRIPTION:Der Bildungsurlaub/die Intensivwoche bietet Ihnen einen Einstieg in das Thema und die Methode. Sie werden mit den Grundzügen der Gewaltfreien Kommunikation vertraut gemacht\, um diese in gesellschaftliches Handeln umsetzen zu können. Dies erfolgt durch theoretischen Input\, Rollenspiele und Partnerübungen sowie der Arbeit an konkreten Beispielen aus dem Teilnehmerkreis. \nInhalte: \n\nEinführung/Grundlagen der Gewaltfreien Kommunikation\nDie vier Schritte der Gewaltfreien Kommunikation kennenlernen und üben\n– Beobachten ohne zu bewerten\n– Gefühle wahrnehmen und ausdrücken\n– Die Schönheit unserer Bedürfnisse erkennen und ausdrücken\n– Bitten aussprechen ohne zu fordern\nEigenen Konflikten ehrlich und empathisch begegnen\nDie vier Ohren: Unterschiedliche Arten\, eine Botschaft zu hören\nWie gehe ich mit einem „Nein“ um?\nDie Schleife der Kommunikation\n\nAnmeldung über den Bildungsverein \nTelefon: 0511 / 344 144\nE-Mail: info@bildungsverein.de
URL:https://lebendigekommunikation.de/event/intensivwoche-gewaltfreie-kommunikation-54/
LOCATION:Bildungsverein Hannover Linden\, Viktoriastr.1\, Hannover\, 30451\, Deutschland
CATEGORIES:Intensivwoche
ATTACH;FMTTYPE=image/jpeg:https://lebendigekommunikation.de/gfk/wp-content/uploads/2018/08/images-e1539934990273.jpg
ORGANIZER;CN="Bildungsverein Hannover":MAILTO:info@bildungsverein.de
END:VEVENT
END:VCALENDAR